BEGIN:VCALENDAR
VERSION:2.0
PRODID:-//Jo Starkey  - Painting Workshops - ECPv6.15.17//NONSGML v1.0//EN
CALSCALE:GREGORIAN
METHOD:PUBLISH
X-ORIGINAL-URL:https://jostarkey.co.uk
X-WR-CALDESC:Events for Jo Starkey  - Painting Workshops
REFRESH-INTERVAL;VALUE=DURATION:PT1H
X-Robots-Tag:noindex
X-PUBLISHED-TTL:PT1H
BEGIN:VTIMEZONE
TZID:Europe/London
BEGIN:DAYLIGHT
TZOFFSETFROM:+0000
TZOFFSETTO:+0100
TZNAME:BST
DTSTART:20250330T010000
END:DAYLIGHT
BEGIN:STANDARD
TZOFFSETFROM:+0100
TZOFFSETTO:+0000
TZNAME:GMT
DTSTART:20251026T010000
END:STANDARD
BEGIN:DAYLIGHT
TZOFFSETFROM:+0000
TZOFFSETTO:+0100
TZNAME:BST
DTSTART:20260329T010000
END:DAYLIGHT
BEGIN:STANDARD
TZOFFSETFROM:+0100
TZOFFSETTO:+0000
TZNAME:GMT
DTSTART:20261025T010000
END:STANDARD
BEGIN:DAYLIGHT
TZOFFSETFROM:+0000
TZOFFSETTO:+0100
TZNAME:BST
DTSTART:20270328T010000
END:DAYLIGHT
BEGIN:STANDARD
TZOFFSETFROM:+0100
TZOFFSETTO:+0000
TZNAME:GMT
DTSTART:20271031T010000
END:STANDARD
END:VTIMEZONE
BEGIN:VEVENT
DTSTART;TZID=Europe/London:20260404T100000
DTEND;TZID=Europe/London:20260404T133000
DTSTAMP:20260422T161357
CREATED:20260305T142150Z
LAST-MODIFIED:20260327T113746Z
UID:4702-1775296800-1775309400@jostarkey.co.uk
SUMMARY:'Painterly Wildflower' – 3½ Hour Painting Workshop
DESCRIPTION:Expressive brush-led grasses and seedheads\, enriched with textured sponging and sculpted impasto flowers\nThis workshop focuses on creating a soft\, painterly wildflower landscape using acrylics on board. You’ll begin by building a gentle\, atmospheric background with sponged layers of textured acrylics\, before developing flowing grasses\, stems and seed heads using expressive brushwork to create movement\, rhythm and structure across the painting. \nIn just 3½ hours\, you’ll learn the techniques and materials I use in my own work to create a richly textured floral painting of your own. Working with acrylics on board\, you’ll be guided step by step to produce a unique little masterpiece — a piece of art to take home and be proud of. \nYour painting will be created on 3mm MDF board; a beautifully responsive and durable surface that works perfectly with layered acrylic techniques and is ideal for framing\, which many participants choose to do after the session. \nRun from the comfort of my Studio in Ditchling\, in a supportive and nurturing environment with an intimate group of up to six people\, allowing one to one tuition. \nThis workshop is suitable for all artistic abilities\, even if you’re a complete novice\, the methods we’ll be using are easy to learn and apply. \nThe cost is £60 per person\, including quality artists’ paints\, boards\, and a range of inspiring materials to experiment with. You don’t need to bring a thing\, just come along and create your own little work of art.
URL:https://jostarkey.co.uk/event/painterly-wildflower-apr/
LOCATION:Jo’s Studio\, Unit 14\, Turner Dumbrell Workshops\, Ditchling\, East Sussex\, BN6 8GT\, United Kingdom
CATEGORIES:Morning Workshops
ATTACH;FMTTYPE=image/jpeg:https://jostarkey.co.uk/wp-content/uploads/2026/02/Silent-Glow-cropped-scaled.jpeg
END:VEVENT
END:VCALENDAR