BEGIN:VCALENDAR
VERSION:2.0
PRODID:-//Jo Starkey  - Painting Workshops - ECPv6.15.17//NONSGML v1.0//EN
CALSCALE:GREGORIAN
METHOD:PUBLISH
X-WR-CALNAME:Jo Starkey  - Painting Workshops
X-ORIGINAL-URL:https://jostarkey.co.uk
X-WR-CALDESC:Events for Jo Starkey  - Painting Workshops
REFRESH-INTERVAL;VALUE=DURATION:PT1H
X-Robots-Tag:noindex
X-PUBLISHED-TTL:PT1H
BEGIN:VTIMEZONE
TZID:Europe/London
BEGIN:DAYLIGHT
TZOFFSETFROM:+0000
TZOFFSETTO:+0100
TZNAME:BST
DTSTART:20250330T010000
END:DAYLIGHT
BEGIN:STANDARD
TZOFFSETFROM:+0100
TZOFFSETTO:+0000
TZNAME:GMT
DTSTART:20251026T010000
END:STANDARD
BEGIN:DAYLIGHT
TZOFFSETFROM:+0000
TZOFFSETTO:+0100
TZNAME:BST
DTSTART:20260329T010000
END:DAYLIGHT
BEGIN:STANDARD
TZOFFSETFROM:+0100
TZOFFSETTO:+0000
TZNAME:GMT
DTSTART:20261025T010000
END:STANDARD
BEGIN:DAYLIGHT
TZOFFSETFROM:+0000
TZOFFSETTO:+0100
TZNAME:BST
DTSTART:20270328T010000
END:DAYLIGHT
BEGIN:STANDARD
TZOFFSETFROM:+0100
TZOFFSETTO:+0000
TZNAME:GMT
DTSTART:20271031T010000
END:STANDARD
END:VTIMEZONE
BEGIN:VEVENT
DTSTART;TZID=Europe/London:20260411T100000
DTEND;TZID=Europe/London:20260411T133000
DTSTAMP:20260422T161212
CREATED:20260305T144719Z
LAST-MODIFIED:20260329T155530Z
UID:4708-1775901600-1775914200@jostarkey.co.uk
SUMMARY:'Expressive Meadow Landscape' - 3½ Hr Painting Workshop
DESCRIPTION:A dreamy landscape created through loose movement and layered texture\n  \nThis workshop focuses on creating a simple yet magical composition featuring a colourful meadow with trees on the horizon set against a softly glowing sky.\n  \nIntricate layers of flecked paint evoke wildflowers scattered across the landscape\, adding depth\, texture\, and movement. Gentle colour blending and a soft haze over the horizon give the scene a dreamlike\, atmospheric quality. \nWorking with acrylics on board\, this session combines easy brushwork with expressive techniques using a variety of tools such as paint rollers\, silicone spatulas\, stencil brushes\, sea sponges\, and gutta (a water-based metallic liner). \nIn just 3½ hours\, you’ll learn the techniques and materials I use in my own work to create a richly textured floral painting of your own. Working with acrylics on board\, you’ll be guided step by step to produce a unique little masterpiece — a piece of art to take home and be proud of. \nYour painting will be created on 3mm MDF board; a beautifully responsive and durable surface that works perfectly with layered acrylic techniques and is ideal for framing\, which many participants choose to do after the session. \nRun from the comfort of my Studio in Ditchling\, in a supportive and nurturing environment with an intimate group of up to six people\, allowing one to one tuition. \nThis workshop is suitable for all artistic abilities\, even if you’re a complete novice\, the methods we’ll be using are easy to learn and apply.
URL:https://jostarkey.co.uk/event/field-landscape-apr/
LOCATION:Jo’s Studio\, Unit 14\, Turner Dumbrell Workshops\, Ditchling\, East Sussex\, BN6 8GT\, United Kingdom
CATEGORIES:Morning Workshops
ATTACH;FMTTYPE=image/jpeg:https://jostarkey.co.uk/wp-content/uploads/2025/12/IMG_5469-scaled.jpg
END:VEVENT
END:VCALENDAR