BEGIN:VCALENDAR
VERSION:2.0
PRODID:-//Jo Starkey  - Painting Workshops - ECPv6.15.17//NONSGML v1.0//EN
CALSCALE:GREGORIAN
METHOD:PUBLISH
X-ORIGINAL-URL:https://jostarkey.co.uk
X-WR-CALDESC:Events for Jo Starkey  - Painting Workshops
REFRESH-INTERVAL;VALUE=DURATION:PT1H
X-Robots-Tag:noindex
X-PUBLISHED-TTL:PT1H
BEGIN:VTIMEZONE
TZID:Europe/London
BEGIN:DAYLIGHT
TZOFFSETFROM:+0000
TZOFFSETTO:+0100
TZNAME:BST
DTSTART:20250330T010000
END:DAYLIGHT
BEGIN:STANDARD
TZOFFSETFROM:+0100
TZOFFSETTO:+0000
TZNAME:GMT
DTSTART:20251026T010000
END:STANDARD
BEGIN:DAYLIGHT
TZOFFSETFROM:+0000
TZOFFSETTO:+0100
TZNAME:BST
DTSTART:20260329T010000
END:DAYLIGHT
BEGIN:STANDARD
TZOFFSETFROM:+0100
TZOFFSETTO:+0000
TZNAME:GMT
DTSTART:20261025T010000
END:STANDARD
BEGIN:DAYLIGHT
TZOFFSETFROM:+0000
TZOFFSETTO:+0100
TZNAME:BST
DTSTART:20270328T010000
END:DAYLIGHT
BEGIN:STANDARD
TZOFFSETFROM:+0100
TZOFFSETTO:+0000
TZNAME:GMT
DTSTART:20271031T010000
END:STANDARD
END:VTIMEZONE
BEGIN:VEVENT
DTSTART;TZID=Europe/London:20260523T100000
DTEND;TZID=Europe/London:20260523T133000
DTSTAMP:20260422T174512
CREATED:20260412T085556Z
LAST-MODIFIED:20260412T085556Z
UID:5342-1779530400-1779543000@jostarkey.co.uk
SUMMARY:'Expressive Meadow Landscape' Painting Workshop - Sat\, 23 May
DESCRIPTION:An immersive and inspiring workshop where you’ll learn the expressive techniques I use in my own painting practice.\nProcess-led: expressive landscape created through loose movement and layered texture\n  \nCome and join me for a fun\, inspiring morning where you’ll learn how to create a beautiful expressive meadow landscape. \nIn just 3½ hours\, you’ll learn the techniques and materials I use in my own work to create a richly textured landscape painting of your own. Working with acrylics on board\, you’ll be guided step by step to create your own piece to take home and be proud of\, with the understanding and confidence to keep refining it further if you wish. \nRun from the comfort of my Studio in Ditchling\, in a supportive and nurturing environment with an intimate group of up to six people\, allowing one to one tuition. \nSuitable for all artistic abilities\, even if you’re a complete novice\, the methods we’ll be using are easy to learn and apply. \nThe cost is £60 per person\, including quality artists’ paints\, boards\, and a range of inspiring materials to experiment with. You don’t need to bring a thing\, just come along and create your own little work of art! \nFree onsite parking.
URL:https://jostarkey.co.uk/event/expressive-meadow-landscape-painting-workshop-sat-23-may/
CATEGORIES:Morning Workshops
ATTACH;FMTTYPE=image/jpeg:https://jostarkey.co.uk/wp-content/uploads/2026/04/Sun-Kissed-Meadow-cropped-scaled.jpeg
END:VEVENT
END:VCALENDAR